BEGIN:VCALENDAR
VERSION:2.0
PRODID:-//DJ Peter Lo - ECPv6.15.20//NONSGML v1.0//EN
CALSCALE:GREGORIAN
METHOD:PUBLISH
X-WR-CALNAME:DJ Peter Lo
X-ORIGINAL-URL:https://djpeterlo.com
X-WR-CALDESC:Events for DJ Peter Lo
REFRESH-INTERVAL;VALUE=DURATION:PT1H
X-Robots-Tag:noindex
X-PUBLISHED-TTL:PT1H
BEGIN:VTIMEZONE
TZID:UTC
BEGIN:STANDARD
TZOFFSETFROM:+0000
TZOFFSETTO:+0000
TZNAME:UTC
DTSTART:20230101T000000
END:STANDARD
END:VTIMEZONE
BEGIN:VEVENT
DTSTART;TZID=UTC:20240608T180000
DTEND;TZID=UTC:20240608T233000
DTSTAMP:20260422T082916
CREATED:20240516T031449Z
LAST-MODIFIED:20240516T031449Z
UID:10003426-1717869600-1717889400@djpeterlo.com
SUMMARY:Kim Seokjin Homecoming Party & IT'z a QT K-Pop Night\, 21+
DESCRIPTION:https://www.simpletix.com/e/qt-k-pop-night-sj-kim-seokjin-homecoming-p-tickets-171023 \n\n🎉 IT’z a multi event collab between BTSO40 & QT K-Pop Night!\n💜 We’re laying out the purple carpet in welcoming home Kim Seokjin back to ARMY\, featuring BTS Hits from 8pm to 11pm and then ALL your favorite K-Pop Hits & Throwbacks from 11pm to 2am.\n💟 We encourage attendees to wear purple!\n🎁 There will be lots of giveaways!\n🛍️ Visit our Vendor Market upstairs featuring 8 local businesses.\n🎶 Music Videos by DJ Peter Lo.\n☁️ Sponsored by Kloud K-pop – the South Bay’s source for official Kpop albums and merchandise. Visit Kloud in North San Jose and follow @kloudkpop.sj.\n🙌 Stay tuned for more events in San Jose (21+) and San Francisco (18+).\n📷 See past event photos\, here.\n🗓️ See all other upcoming QT Nightlife events\, here.
URL:https://djpeterlo.com/event/kim-seokjin-homecoming-party-itz-a-qt-k-pop-night-21/
LOCATION:386 Lounge\, 386 South 1st Street\, San Jose\, 95113
CATEGORIES:K-pop Club Night
ATTACH;FMTTYPE=image/jpeg:https://djpeterlo.com/wp-content/uploads/2024/05/24-JUN-K-POP-Night-SJ-BTSParty_Square.jpg
ORGANIZER;CN="QT NIGHTLIFE":MAILTO:events@qtnightlife.com
END:VEVENT
BEGIN:VEVENT
DTSTART;TZID=UTC:20240511T213000
DTEND;TZID=UTC:20240511T233000
DTSTAMP:20260422T082916
CREATED:20240504T222435Z
LAST-MODIFIED:20240504T222435Z
UID:10003416-1715463000-1715470200@djpeterlo.com
SUMMARY:QT K-POP Night San Jose | NOISE\, 21+
DESCRIPTION:https://www.simpletix.com/e/qt-k-pop-night-san-jose-noise-21-tickets-168727 \n\n\n🗣️ San Jose K-pop Fans\, get ready to make some NOISE!\n🔊 We’re turning up the volume to the sounds of your favorite K-pop boy groups like ATEEZ\, NCT\, Stray Kids\, and TXT.\n📢 We’ll blast hard hitting raps of “God’s Menu\,” the explosive chorus of ATEEZ’s “BOUNCY\,” feel the bass drop as NCT’s “Kick It” takes over\, and lose yourself in the dreamy vibes of TXT’s “Can’t You See Me?”\n🎶 Music Videos by DJ Peter Lo.\n☁️ Sponsored by Kloud K-pop – the South Bay’s source for official Kpop albums and merchandise. Visit Kloud in North San Jose and follow @kloudkpop.sj.\n🌟 Check out onestar – a kpop vintage apparel brand. Shop upstairs during our event or at onestar.ltd.\n🙌 Stay tuned for more events in San Jose (21+) and San Francisco (18+).\n📷 See past event photos\, here.\n🗓️ See all other upcoming QT Nightlife events\, here.
URL:https://djpeterlo.com/event/qt-k-pop-night-san-jose-noise-21/
LOCATION:386 Lounge\, 386 South 1st Street\, San Jose\, 95113
CATEGORIES:K-pop Club Night
ATTACH;FMTTYPE=image/jpeg:https://djpeterlo.com/wp-content/uploads/2024/05/24-MAY-K-POP-Night-SJ-NOISE_Square.jpg
ORGANIZER;CN="QT NIGHTLIFE":MAILTO:events@qtnightlife.com
END:VEVENT
END:VCALENDAR